BEGIN:VCALENDAR
VERSION:2.0
PRODID:-//Sociale Verbinding Eemsdelta - ECPv6.0.12//NONSGML v1.0//EN
CALSCALE:GREGORIAN
METHOD:PUBLISH
X-WR-CALNAME:Sociale Verbinding Eemsdelta
X-ORIGINAL-URL:https://sveemsdelta.nl
X-WR-CALDESC:Evenementen voor Sociale Verbinding Eemsdelta
REFRESH-INTERVAL;VALUE=DURATION:PT1H
X-Robots-Tag:noindex
X-PUBLISHED-TTL:PT1H
BEGIN:VTIMEZONE
TZID:Europe/Amsterdam
BEGIN:DAYLIGHT
TZOFFSETFROM:+0100
TZOFFSETTO:+0200
TZNAME:CEST
DTSTART:20240331T010000
END:DAYLIGHT
BEGIN:STANDARD
TZOFFSETFROM:+0200
TZOFFSETTO:+0100
TZNAME:CET
DTSTART:20241027T010000
END:STANDARD
END:VTIMEZONE
BEGIN:VEVENT
DTSTART;TZID=Europe/Amsterdam:20240127T190000
DTEND;TZID=Europe/Amsterdam:20240127T210000
DTSTAMP:20260421T004120
CREATED:20240122T094215Z
LAST-MODIFIED:20240122T094433Z
UID:1060-1706382000-1706389200@sveemsdelta.nl
SUMMARY:Zaalvoetbal
DESCRIPTION:
URL:https://sveemsdelta.nl/activiteiten/zaalvoetbal-8/
LOCATION:De Ringen\, Prins Bernhardlaan 1\, Delfzijl\, Groningen\, 9934 EM\, Nederland
ATTACH;FMTTYPE=image/jpeg:https://sveemsdelta.nl/wp-content/uploads/2022/09/maxresdefault.jpg
END:VEVENT
END:VCALENDAR